BEGIN:VCALENDAR
VERSION:2.0
PRODID:spatie/icalendar-generator
DESCRIPTION:Events from 
X-WR-CALDESC:Events from 
REFRESH-INTERVAL;VALUE=DURATION:PT1440M
X-PUBLISHED-TTL:PT1440M
BEGIN:VTIMEZONE
TZID:America/Denver
BEGIN:DAYLIGHT
DTSTART:20250309T020000Z
TZOFFSETFROM:-0700
TZOFFSETTO:-0600
END:DAYLIGHT
BEGIN:STANDARD
DTSTART:20251102T020000Z
TZOFFSETFROM:-0600
TZOFFSETTO:-0700
END:STANDARD
BEGIN:DAYLIGHT
DTSTART:20260308T020000Z
TZOFFSETFROM:-0700
TZOFFSETTO:-0600
END:DAYLIGHT
END:VTIMEZONE
BEGIN:VTIMEZONE
TZID:UTC
BEGIN:STANDARD
DTSTART:20250726T204330Z
TZOFFSETFROM:+0000
TZOFFSETTO:+0000
END:STANDARD
END:VTIMEZONE
BEGIN:VEVENT
UID:24-18
DTSTAMP:20260422T204330Z
SUMMARY:Armistice Day - reclaiming Peace
LOCATION:Santa Fe Plaza 63 Lincoln Ave  Santa Fe NM
ORGANIZER;CN=Jean Darling:MAILTO:jdarling@sandwich.net
DTSTART;TZID=America/Denver:20251111T103000
DTEND;TZID=America/Denver:20251111T112000
X-ALT-DESC;FMTTYPE=TEXT/HTML:Armistice Day was created after WWI over a hun
 dred years ago.  It was a day to be celebrated and dedicated to world pea
 ce.  After WWII\, the US Congress rebranded Armistice Day and renamed it 
 \"Veterans' Day.\" Veterans for Peace is taking back Armistice Day for pea
 ce and friendship. Join Santa Fe Veterans for Peace and&amp;hellip\;
CATEGORIES:Celebration,  Commemoration,  General
URL;VALUE=URI:https://ilasantafe.org/mc-events/armistice-day-reclaiming-pea
 ce/
METHOD:PUBLISH
END:VEVENT
END:VCALENDAR