BEGIN:VCALENDAR
VERSION:2.0
PRODID:spatie/icalendar-generator
DESCRIPTION:Events from 
X-WR-CALDESC:Events from 
REFRESH-INTERVAL;VALUE=DURATION:PT1440M
X-PUBLISHED-TTL:PT1440M
BEGIN:VTIMEZONE
TZID:America/Denver
BEGIN:STANDARD
DTSTART:20241103T020000Z
TZOFFSETFROM:-0600
TZOFFSETTO:-0700
END:STANDARD
BEGIN:DAYLIGHT
DTSTART:20250309T020000Z
TZOFFSETFROM:-0700
TZOFFSETTO:-0600
END:DAYLIGHT
BEGIN:STANDARD
DTSTART:20251102T020000Z
TZOFFSETFROM:-0600
TZOFFSETTO:-0700
END:STANDARD
END:VTIMEZONE
BEGIN:VTIMEZONE
TZID:UTC
BEGIN:STANDARD
DTSTART:20250726T180037Z
TZOFFSETFROM:+0000
TZOFFSETTO:+0000
END:STANDARD
END:VTIMEZONE
BEGIN:VEVENT
UID:23-17
DTSTAMP:20260422T180037Z
SUMMARY:Activate! Campaign Nonviolence Organizer Training
LOCATION:
ORGANIZER;CN=Jean Darling:MAILTO:jdarling@sandwich.net
RRULE:FREQ=WEEKLY;UNTIL=20250724T000000Z
DTSTART;TZID=America/Denver:20250717T140000
DTEND;TZID=America/Denver:20250717T150000
X-ALT-DESC;FMTTYPE=TEXT/HTML:Free 4-Week Online Training with Rivera Sun\, 
 who runs the Nonviolent Cities Project. Thursdays\, July 3\, 10\, 17\, 24\
 , 2025 2-3:30pm MT
CATEGORIES:Workshop,  General
URL;VALUE=URI:https://ilasantafe.org/mc-events/activate-campaign-nonviolenc
 e-organizer-training-2/?mc_id=23
METHOD:PUBLISH
END:VEVENT
END:VCALENDAR