BEGIN:VCALENDAR
VERSION:2.0
PRODID:spatie/icalendar-generator
DESCRIPTION:Events from 
X-WR-CALDESC:Events from 
REFRESH-INTERVAL;VALUE=DURATION:PT1440M
X-PUBLISHED-TTL:PT1440M
BEGIN:VTIMEZONE
TZID:America/Denver
BEGIN:STANDARD
DTSTART:20241103T020000Z
TZOFFSETFROM:-0600
TZOFFSETTO:-0700
END:STANDARD
BEGIN:DAYLIGHT
DTSTART:20250309T020000Z
TZOFFSETFROM:-0700
TZOFFSETTO:-0600
END:DAYLIGHT
BEGIN:STANDARD
DTSTART:20251102T020000Z
TZOFFSETFROM:-0600
TZOFFSETTO:-0700
END:STANDARD
END:VTIMEZONE
BEGIN:VTIMEZONE
TZID:UTC
BEGIN:STANDARD
DTSTART:20250726T181723Z
TZOFFSETFROM:+0000
TZOFFSETTO:+0000
END:STANDARD
END:VTIMEZONE
BEGIN:VEVENT
UID:15-15
DTSTAMP:20260422T181723Z
SUMMARY:Bridging Differences - Ending Stigma Together
LOCATION:The Grove Central Church  2235 Henry Lynch Road  Santa Fe NM
ORGANIZER;CN=Jean Darling:MAILTO:jdarling@sandwich.net
DTSTART;TZID=America/Denver:20250614T100000
DTEND;TZID=America/Denver:20250614T110000
X-ALT-DESC;FMTTYPE=TEXT/HTML:Who: ALL COMMUNITY MEMBERS When: Saturday\, Ju
 ne 14th from 10:00 AM – 2:30 PM Where: The Grove Central Church- 2235 He
 nry Lynch Road\, Santa Fe\, NM What: Learn practical strategies and insigh
 ts to help combat Stigma in Santa Fe! COME LEARN WAYS TO REDUCE STIGMA SUR
 ROUNDING: ·Behavioral Health ·Substance Use ·Mental Health ·Homelessne
 ss &amp;nbsp\;
CATEGORIES:Workshop,  General
URL;VALUE=URI:https://ilasantafe.org/mc-events/bridging-differences-ending-
 stigma-together/
METHOD:PUBLISH
END:VEVENT
END:VCALENDAR