BEGIN:VCALENDAR
VERSION:2.0
PRODID:spatie/icalendar-generator
DESCRIPTION:Events from 
X-WR-CALDESC:Events from 
REFRESH-INTERVAL;VALUE=DURATION:PT1440M
X-PUBLISHED-TTL:PT1440M
BEGIN:VTIMEZONE
TZID:America/Denver
BEGIN:STANDARD
DTSTART:20241103T020000Z
TZOFFSETFROM:-0600
TZOFFSETTO:-0700
END:STANDARD
BEGIN:DAYLIGHT
DTSTART:20250309T020000Z
TZOFFSETFROM:-0700
TZOFFSETTO:-0600
END:DAYLIGHT
END:VTIMEZONE
BEGIN:VTIMEZONE
TZID:UTC
BEGIN:STANDARD
DTSTART:20250726T205415Z
TZOFFSETFROM:+0000
TZOFFSETTO:+0000
END:STANDARD
END:VTIMEZONE
BEGIN:VEVENT
UID:13-13
DTSTAMP:20260422T205415Z
SUMMARY:Nonviolence in Troubled Times
LOCATION:Iconik Red 1366 Cerrillos Rd  Santa Fe NM
ORGANIZER;CN=Jean Darling:MAILTO:jdarling@sandwich.net
DTSTART;TZID=America/Denver:20250311T180000
DTEND;TZID=America/Denver:20250311T193000
X-ALT-DESC;FMTTYPE=TEXT/HTML:You’re invited to coffee &amp;amp\; conversation
  about nonviolence in these troubling political times we find ourselves in
 .  We’ll have a short introduction to Nonviolence from Nonviolent Santa
  Fe (NSF) trainers\, and opportunity to talk together about problem-solvin
 g – not from a place of negative thinking\, but from a place of abundanc
 e. Come for the coffee\,&amp;hellip\;
CATEGORIES:General
URL;VALUE=URI:https://ilasantafe.org/mc-events/nonviolence-in-troubled-time
 s-2/
METHOD:PUBLISH
END:VEVENT
END:VCALENDAR