BEGIN:VCALENDAR
VERSION:2.0
PRODID:spatie/icalendar-generator
DESCRIPTION:Events from 
X-WR-CALDESC:Events from 
REFRESH-INTERVAL;VALUE=DURATION:PT1440M
X-PUBLISHED-TTL:PT1440M
BEGIN:VTIMEZONE
TZID:America/Denver
BEGIN:DAYLIGHT
DTSTART:20240310T020000Z
TZOFFSETFROM:-0700
TZOFFSETTO:-0600
END:DAYLIGHT
BEGIN:STANDARD
DTSTART:20241103T020000Z
TZOFFSETFROM:-0600
TZOFFSETTO:-0700
END:STANDARD
BEGIN:DAYLIGHT
DTSTART:20250309T020000Z
TZOFFSETFROM:-0700
TZOFFSETTO:-0600
END:DAYLIGHT
END:VTIMEZONE
BEGIN:VTIMEZONE
TZID:UTC
BEGIN:STANDARD
DTSTART:20250726T220910Z
TZOFFSETFROM:+0000
TZOFFSETTO:+0000
END:STANDARD
END:VTIMEZONE
BEGIN:VEVENT
UID:11-11
DTSTAMP:20260422T220910Z
SUMMARY:Exploring Nonviolence: Tools for Managing Conflict in Everyday Life
LOCATION:1st Presbyterian Church of Santa Fe  208 Grant Avenue Santa Fe NM 
 87501
ORGANIZER;CN=Jean Darling:MAILTO:jdarling@sandwich.net
DTSTART;TZID=America/Denver:20241119T100000
DTEND;TZID=America/Denver:20241119T120000
X-ALT-DESC;FMTTYPE=TEXT/HTML:Join us in the exploration of the power and po
 tential of nonviolence in ourselves and in the world.  Explore with other
 s in community to: Learn what Nonviolence means\; examine our current beli
 efs and practices regarding violence and nonviolence\; Practice exploring 
 aspects of ourselves that can spark reactions in others\; Study techniques
  of de-escalation\; Bolster your&amp;hellip\;
CATEGORIES:Workshop
URL;VALUE=URI:https://ilasantafe.org/mc-events/exploring-nonviolence-tools-
 for-managing-conflict-in-everyday-life-3/
METHOD:PUBLISH
END:VEVENT
END:VCALENDAR