BEGIN:VCALENDAR
VERSION:2.0
PRODID:spatie/icalendar-generator
DESCRIPTION:Events from 
X-WR-CALDESC:Events from 
REFRESH-INTERVAL;VALUE=DURATION:PT1440M
X-PUBLISHED-TTL:PT1440M
BEGIN:VTIMEZONE
TZID:America/Denver
BEGIN:STANDARD
DTSTART:20231105T020000Z
TZOFFSETFROM:-0600
TZOFFSETTO:-0700
END:STANDARD
BEGIN:DAYLIGHT
DTSTART:20240310T020000Z
TZOFFSETFROM:-0700
TZOFFSETTO:-0600
END:DAYLIGHT
BEGIN:STANDARD
DTSTART:20241103T020000Z
TZOFFSETFROM:-0600
TZOFFSETTO:-0700
END:STANDARD
END:VTIMEZONE
BEGIN:VTIMEZONE
TZID:UTC
BEGIN:STANDARD
DTSTART:20250726T215857Z
TZOFFSETFROM:+0000
TZOFFSETTO:+0000
END:STANDARD
END:VTIMEZONE
BEGIN:VEVENT
UID:9-9
DTSTAMP:20260422T215857Z
SUMMARY:\"Exploring Nonviolence:  Tools for Managing Conflict in Everyday L
 ife\"
LOCATION:The Open Circle 645 Webber St  Santa Fe NM 87505
ORGANIZER;CN=Jean Darling:MAILTO:jdarling@sandwich.net
DTSTART;TZID=America/Denver;VALUE=DATE:20240602
DTEND;TZID=America/Denver;VALUE=DATE:20240603
X-ALT-DESC;FMTTYPE=TEXT/HTML:Join us in the exploration of the power and po
 tential of nonviolence in ourselves and in the world.  Explore with other
 s in community to: Learn what Nonviolence means\;  examine our current be
 liefs and practices regarding violence and nonviolenc e\; Practice explori
 ng aspects of ourselves that can spark reactions in others\; Study techniq
 ues of de-escalation\; Bolster&amp;hellip\;
CATEGORIES:Workshop
URL;VALUE=URI:https://ilasantafe.org/mc-events/exploring-nonviolence-tools-
 for-managing-conflict-in-everyday-life-2/
METHOD:PUBLISH
END:VEVENT
END:VCALENDAR