BEGIN:VCALENDAR
VERSION:2.0
PRODID:spatie/icalendar-generator
DESCRIPTION:Events from 
X-WR-CALDESC:Events from 
REFRESH-INTERVAL;VALUE=DURATION:PT1440M
X-PUBLISHED-TTL:PT1440M
BEGIN:VTIMEZONE
TZID:America/Denver
BEGIN:STANDARD
DTSTART:20231105T020000Z
TZOFFSETFROM:-0600
TZOFFSETTO:-0700
END:STANDARD
BEGIN:DAYLIGHT
DTSTART:20240310T020000Z
TZOFFSETFROM:-0700
TZOFFSETTO:-0600
END:DAYLIGHT
END:VTIMEZONE
BEGIN:VTIMEZONE
TZID:UTC
BEGIN:STANDARD
DTSTART:20250727T002851Z
TZOFFSETFROM:+0000
TZOFFSETTO:+0000
END:STANDARD
END:VTIMEZONE
BEGIN:VEVENT
UID:7-7
DTSTAMP:20260423T002851Z
SUMMARY:ILA Monthly Meeting
LOCATION:Santa Fe Friends Meeting 505 Camino de los Marcos  Santa Fe NM 875
 05
ORGANIZER;CN=Jean Darling:MAILTO:jdarling@sandwich.net
DTSTART;TZID=America/Denver:20240409T120000
DTEND;TZID=America/Denver:20240409T130000
X-ALT-DESC;FMTTYPE=TEXT/HTML:The Interfaith Leadership Alliance of Santa  
 Fe meets monthly on the second Tuesday to share fellowship\, discuss busin
 ess\, and develop programs of interest to the wider community. Currently s
 erving or retired clergy\, please join us!  At 11 we meet in person or on
 line to continue discussing the current book we are reading together.  At
  noon&amp;hellip\;
CATEGORIES:General
URL;VALUE=URI:https://ilasantafe.org/mc-events/ila-monthly-meeting/
METHOD:PUBLISH
END:VEVENT
END:VCALENDAR