BEGIN:VCALENDAR
VERSION:2.0
PRODID:spatie/icalendar-generator
DESCRIPTION:Events from 
X-WR-CALDESC:Events from 
REFRESH-INTERVAL;VALUE=DURATION:PT1440M
X-PUBLISHED-TTL:PT1440M
BEGIN:VTIMEZONE
TZID:America/Denver
BEGIN:STANDARD
DTSTART:20231105T020000Z
TZOFFSETFROM:-0600
TZOFFSETTO:-0700
END:STANDARD
BEGIN:DAYLIGHT
DTSTART:20240310T020000Z
TZOFFSETFROM:-0700
TZOFFSETTO:-0600
END:DAYLIGHT
END:VTIMEZONE
BEGIN:VTIMEZONE
TZID:UTC
BEGIN:STANDARD
DTSTART:20250727T014516Z
TZOFFSETFROM:+0000
TZOFFSETTO:+0000
END:STANDARD
END:VTIMEZONE
BEGIN:VEVENT
UID:6-6
DTSTAMP:20260423T014516Z
SUMMARY:Remembering Martin Luther King\, Jr. and how he opposed war
LOCATION:Unitarian Universalists of Santa Fe 107 W. Barcelona  Santa Fe NM 
 87505
ORGANIZER;CN=Jean Darling:MAILTO:jdarling@sandwich.net
DTSTART;TZID=America/Denver:20240404T190000
DTEND;TZID=America/Denver:20240404T203000
X-ALT-DESC;FMTTYPE=TEXT/HTML:You are invited to a reading of Martin Luther 
 King\, Jr.’s “Beyond Vietnam: A Time to Break Silence” On April 4\, 
 1967 at Riverside Church in New York City\, MLK gave what many people feel
  was his most important and prophetic speech. Exactly one year later\, he 
 was assassinated in Memphis\, Tennessee. We will commemorate these&amp;hellip
 \;
CATEGORIES:Commemoration
URL;VALUE=URI:https://ilasantafe.org/mc-events/remembering-martin-luther-ki
 ng-jr-and-how-he-opposed-war/
METHOD:PUBLISH
END:VEVENT
END:VCALENDAR