BEGIN:VCALENDAR
VERSION:2.0
PRODID:spatie/icalendar-generator
DESCRIPTION:Events from 
X-WR-CALDESC:Events from 
REFRESH-INTERVAL;VALUE=DURATION:PT1440M
X-PUBLISHED-TTL:PT1440M
BEGIN:VTIMEZONE
TZID:America/Denver
BEGIN:DAYLIGHT
DTSTART:20230312T020000Z
TZOFFSETFROM:-0700
TZOFFSETTO:-0600
END:DAYLIGHT
BEGIN:STANDARD
DTSTART:20231105T020000Z
TZOFFSETFROM:-0600
TZOFFSETTO:-0700
END:STANDARD
BEGIN:DAYLIGHT
DTSTART:20240310T020000Z
TZOFFSETFROM:-0700
TZOFFSETTO:-0600
END:DAYLIGHT
END:VTIMEZONE
BEGIN:VTIMEZONE
TZID:UTC
BEGIN:STANDARD
DTSTART:20250727T043033Z
TZOFFSETFROM:+0000
TZOFFSETTO:+0000
END:STANDARD
END:VTIMEZONE
BEGIN:VEVENT
UID:4-4
DTSTAMP:20260423T043033Z
SUMMARY:Intertribal Powwow on the Santa Fe Plaza
LOCATION:
ORGANIZER;CN=Jean Darling:MAILTO:jdarling@sandwich.net
DTSTART;TZID=America/Denver:20231009T110000
DTEND;TZID=America/Denver:20231009T120000
X-ALT-DESC;FMTTYPE=TEXT/HTML:Honoring Native Nations Powwow on the Santa Fe
  Plaza SF Indigenous Center (formerly the SF Indian Center) announces the 
 first-time Intertribal Powwow on the SF Plaza\, and Parade of Nations! Ind
 igenous Peoples' Day\, October 9\, 2023\, 11am to 4:30pm.  Booths open at
  9am. Bring your tribal flag for the Parade of Nations!  Guest drums welc
 ome!&amp;hellip\;
CATEGORIES:Celebration,  Indigenous
URL;VALUE=URI:https://ilasantafe.org/mc-events/intertribal-powwow-on-the-sa
 nta-fe-plaza/
METHOD:PUBLISH
END:VEVENT
END:VCALENDAR