BEGIN:VCALENDAR
VERSION:2.0
PRODID:spatie/icalendar-generator
DESCRIPTION:Events from 
X-WR-CALDESC:Events from 
REFRESH-INTERVAL;VALUE=DURATION:PT1440M
X-PUBLISHED-TTL:PT1440M
BEGIN:VTIMEZONE
TZID:America/Denver
BEGIN:STANDARD
DTSTART:20251102T020000Z
TZOFFSETFROM:-0600
TZOFFSETTO:-0700
END:STANDARD
BEGIN:DAYLIGHT
DTSTART:20260308T020000Z
TZOFFSETFROM:-0700
TZOFFSETTO:-0600
END:DAYLIGHT
END:VTIMEZONE
BEGIN:VTIMEZONE
TZID:UTC
BEGIN:STANDARD
DTSTART:20250726T164554Z
TZOFFSETFROM:+0000
TZOFFSETTO:+0000
END:STANDARD
END:VTIMEZONE
BEGIN:VEVENT
UID:27-21
DTSTAMP:20260422T164554Z
SUMMARY:\"For the Birds\" concert
LOCATION:Unitarian Universalists of Santa Fe 107 W. Barcelona  Santa Fe NM 
 87505
ORGANIZER;CN=Jean Darling:MAILTO:jdarling@sandwich.net
DTSTART;TZID=America/Denver:20260412T160000
DTEND;TZID=America/Denver:20260412T173000
X-ALT-DESC;FMTTYPE=TEXT/HTML:This Sunday\, April 12\, 4pm\, at the Unitaria
 n Universalist Congregation of Santa Fe\, 107 W. Barcelona in Santa Fe\, t
 he UUSF Environmental Justice team hosts the talented jazz duo Nelda and C
 lif Swiggett on their Western tour of \"For the Birds\,\" a multimedia eve
 nt of live music\, images and poetry\, inviting reflection on our changing
 &amp;hellip\;
CATEGORIES:Music,  General
URL;VALUE=URI:https://ilasantafe.org/mc-events/for-the-birds-concert/
METHOD:PUBLISH
END:VEVENT
END:VCALENDAR