BEGIN:VCALENDAR
VERSION:2.0
PRODID:spatie/icalendar-generator
DESCRIPTION:Events from 
X-WR-CALDESC:Events from 
REFRESH-INTERVAL;VALUE=DURATION:PT1440M
X-PUBLISHED-TTL:PT1440M
BEGIN:VTIMEZONE
TZID:America/Denver
BEGIN:STANDARD
DTSTART:20251102T020000Z
TZOFFSETFROM:-0600
TZOFFSETTO:-0700
END:STANDARD
BEGIN:DAYLIGHT
DTSTART:20260308T020000Z
TZOFFSETFROM:-0700
TZOFFSETTO:-0600
END:DAYLIGHT
END:VTIMEZONE
BEGIN:VTIMEZONE
TZID:UTC
BEGIN:STANDARD
DTSTART:20250726T180444Z
TZOFFSETFROM:+0000
TZOFFSETTO:+0000
END:STANDARD
END:VTIMEZONE
BEGIN:VEVENT
UID:25-19
DTSTAMP:20260422T180444Z
SUMMARY:Exploring Nonviolence Intro Workshop
LOCATION:Unitarian Universalists of Santa Fe 107 W. Barcelona  Santa Fe NM 
 87505
ORGANIZER;CN=Jean Darling:MAILTO:jdarling@sandwich.net
DTSTART;TZID=America/Denver:20251206T133000
DTEND;TZID=America/Denver:20251206T153000
X-ALT-DESC;FMTTYPE=TEXT/HTML:Exploring Nonviolence: Tools for Managing Conf
 lict in Everyday Life Join us in this interactive\, nonjudgmental introduc
 tory workshop to explore the power and potential of nonviolence in ourselv
 es and in the world.  Explore with others in community to: Learn what Non
 violence means\; examine our current beliefs and practices regarding viole
 nce and nonviolence\; Practice exploring aspects of&amp;hellip\;
CATEGORIES:Workshop,  General
URL;VALUE=URI:https://ilasantafe.org/mc-events/exploring-nonviolence-intro-
 workshop/
METHOD:PUBLISH
END:VEVENT
END:VCALENDAR