BEGIN:VCALENDAR
VERSION:2.0
PRODID:spatie/icalendar-generator
DESCRIPTION:Events from 
X-WR-CALDESC:Events from 
REFRESH-INTERVAL;VALUE=DURATION:PT1440M
X-PUBLISHED-TTL:PT1440M
BEGIN:VTIMEZONE
TZID:America/Denver
BEGIN:STANDARD
DTSTART:20241103T020000Z
TZOFFSETFROM:-0600
TZOFFSETTO:-0700
END:STANDARD
BEGIN:DAYLIGHT
DTSTART:20250309T020000Z
TZOFFSETFROM:-0700
TZOFFSETTO:-0600
END:DAYLIGHT
END:VTIMEZONE
BEGIN:VTIMEZONE
TZID:UTC
BEGIN:STANDARD
DTSTART:20250726T181345Z
TZOFFSETFROM:+0000
TZOFFSETTO:+0000
END:STANDARD
END:VTIMEZONE
BEGIN:VEVENT
UID:14-14
DTSTAMP:20260422T181345Z
SUMMARY:Exploring Nonviolence: Tools for Managing Conflict in Everyday Life
LOCATION:The Buddhist Center Thubten Norbu Ling 130 Rabbit Road  Santa Fe N
 M 87508
ORGANIZER;CN=Jean Darling:MAILTO:jdarling@sandwich.net
DTSTART;TZID=America/Denver;VALUE=DATE:20250419
DTEND;TZID=America/Denver;VALUE=DATE:20250420
X-ALT-DESC;FMTTYPE=TEXT/HTML:Join us in the exploration of the power and po
 tential of nonviolence in ourselves and in the world.  Explore with other
 s in community to: Learn what Nonviolence means\; examine our current beli
 efs and practices regarding violence and nonviolence\; Practice exploring 
 aspects of ourselves that can spark reactions in others\; Study techniques
  of de-escalation\; Bolster your&amp;hellip\;
CATEGORIES:Workshop,  General
URL;VALUE=URI:https://ilasantafe.org/mc-events/exploring-nonviolence-tools-
 for-managing-conflict-in-everyday-life-4/
METHOD:PUBLISH
END:VEVENT
END:VCALENDAR