BEGIN:VCALENDAR
VERSION:2.0
PRODID:spatie/icalendar-generator
DESCRIPTION:Events from 
X-WR-CALDESC:Events from 
REFRESH-INTERVAL;VALUE=DURATION:PT1440M
X-PUBLISHED-TTL:PT1440M
BEGIN:VTIMEZONE
TZID:America/Denver
BEGIN:STANDARD
DTSTART:20231105T020000Z
TZOFFSETFROM:-0600
TZOFFSETTO:-0700
END:STANDARD
BEGIN:DAYLIGHT
DTSTART:20240310T020000Z
TZOFFSETFROM:-0700
TZOFFSETTO:-0600
END:DAYLIGHT
END:VTIMEZONE
BEGIN:VTIMEZONE
TZID:UTC
BEGIN:STANDARD
DTSTART:20250726T231012Z
TZOFFSETFROM:+0000
TZOFFSETTO:+0000
END:STANDARD
END:VTIMEZONE
BEGIN:VEVENT
UID:10-10
DTSTAMP:20260422T231012Z
SUMMARY:Earth Day at the Santa Fe Railyard
LOCATION:Rail Yard Park  805 Early Street\, 204 B  Santa Fe NM 87505
ORGANIZER;CN=Jean Darling:MAILTO:jdarling@sandwich.net
DTSTART;TZID=America/Denver:20240420T100000
DTEND;TZID=America/Denver:20240420T140000
X-ALT-DESC;FMTTYPE=TEXT/HTML:Join the RPC and more than a dozen community p
 artners for a free Earth Day event celebrating Healthy Soils in the Railya
 rd Park! Come out to enjoy a wide range of family-friendly activities\, in
 cluding Graze Days\, Live Music\, Worm Fun\, Seed Ball Making\, Composting
  Demos\, Public Art\, Face Painting and more!
CATEGORIES:Celebration
URL;VALUE=URI:https://ilasantafe.org/mc-events/earth-day-at-the-santa-fe-ra
 ilyard/
METHOD:PUBLISH
END:VEVENT
END:VCALENDAR